BEGIN:VCALENDAR
VERSION:2.0
PRODID:-//ChamberMaster//Event Calendar 2.0//EN
METHOD:PUBLISH
X-PUBLISHED-TTL:P3D
REFRESH-INTERVAL:P3D
CALSCALE:GREGORIAN
BEGIN:VEVENT
DTSTART:20131030T180000Z
DTEND:20131030T210000Z
X-MICROSOFT-CDO-ALLDAYEVENT:FALSE
SUMMARY:State of the Region 2013
DESCRIPTION:The Modesto Chamber of Commerce will host its 5th Annual State of the Region Luncheon. This is a unique opportunity for the business community to engage in dialogue through a panel discussion.
X-ALT-DESC;FMTTYPE=text/html:The Modesto Chamber of Commerce will host its 5th Annual State of the Region Luncheon. This is a unique opportunity for the business community to engage in dialogue through a panel discussion.\n\n
LOCATION:Modesto Centre Plaza 10th & K Street Modesto\, CA 95354
UID:e.2695.264
SEQUENCE:3
DTSTAMP:20260423T135005Z
URL:https://business.modchamber.org/events/details/state-of-the-region-2013-10-30-2013-264
END:VEVENT

END:VCALENDAR
