BEGIN:VCALENDAR
VERSION:2.0
PRODID:-//ChamberMaster//Event Calendar 2.0//EN
METHOD:PUBLISH
X-PUBLISHED-TTL:P3D
REFRESH-INTERVAL:P3D
CALSCALE:GREGORIAN
BEGIN:VEVENT
DTSTART:20160322T180000Z
DTEND:20160322T200000Z
X-MICROSOFT-CDO-ALLDAYEVENT:FALSE
SUMMARY:State of the City 2016
DESCRIPTION:Join Mayor Garrad Marsh as he presents his State of the City Address.  In its sixth year\, this sellout event provides an opportunity for Modesto business leaders to hear first-hand the Mayor’s plans for 2015 and 2016. The address is followed by audience questions\, putting the public in direct touch with local government.  The event has sold out each year and we anticipate even greater popularity in 2015..
X-ALT-DESC;FMTTYPE=text/html:<DIV style="FONT-FAMILY: Arial"><FONT face="Times New Roman"><SPAN style="mso-arabic-font-family: Arial\; mso-armenian-font-family: Arial\; mso-asciisym-font-family: FranklinGothic-Book\; mso-bengali-font-family: FranklinGothic-Book\; mso-bopomofo-font-family: FranklinGothic-Book\; mso-braille-font-family: FranklinGothic-Book\; mso-canadianabor-font-family: FranklinGothic-Book\; mso-cherokee-font-family: FranklinGothic-Book\; mso-currency-font-family: Arial\; mso-cyrillic-font-family: 'Franklin Gothic Book'\; mso-default-font-family: 'Franklin Gothic Book'\; mso-devanagari-font-family: FranklinGothic-Book\; mso-ethiopic-font-family: FranklinGothic-Book\; mso-eudc-font-family: FranklinGothic-Book\; mso-georgian-font-family: FranklinGothic-Book\; mso-greek-font-family: 'Franklin Gothic Book'\; mso-gurmukhi-font-family: FranklinGothic-Book\; mso-halfwidthkana-font-family: FranklinGothic-Book\; mso-han-font-family: FranklinGothic-Book\; mso-hangul-font-family: FranklinGothic-Book\; mso-hansurrogate-font-family: FranklinGothic-Book\; mso-hebrew-font-family: Arial\; mso-kana-font-family: FranklinGothic-Book\; mso-kannada-font-family: FranklinGothic-Book\; mso-khmer-font-family: FranklinGothic-Book\; mso-lao-font-family: FranklinGothic-Book\; mso-latin-font-family: 'Franklin Gothic Book'\; mso-latinext-font-family: 'Franklin Gothic Book'\; mso-malayalam-font-family: FranklinGothic-Book\; mso-mongolian-font-family: FranklinGothic-Book\; mso-myanmar-font-family: FranklinGothic-Book\; mso-nonhansurrogate-font-family: FranklinGothic-Book\; mso-ogham-font-family: FranklinGothic-Book\; mso-oriya-font-family: FranklinGothic-Book\; mso-runic-font-family: FranklinGothic-Book\; mso-sinhala-font-family: FranklinGothic-Book\; mso-syriac-font-family: FranklinGothic-Book\; mso-tamil-font-family: FranklinGothic-Book\; mso-telugu-font-family: FranklinGothic-Book\; mso-thaana-font-family: FranklinGothic-Book\; mso-thai-font-family: FranklinGothic-Book\; mso-tibetan-font-family: FranklinGothic-Book\; mso-yi-font-family: FranklinGothic-Book"><P class=MsoNormal style="MARGIN: 0in 0in 0pt\; mso-pagination: none"><SPAN style="FONT-SIZE: 12pt\; mso-ligatures: none">Join Mayor Garrad Marsh as he presents his State of the City Address.<SPAN style="mso-spacerun: yes">&nbsp\; </SPAN>In its sixth year\, </SPAN><SPAN style="mso-arabic-font-family: Arial\; mso-armenian-font-family: Arial\; mso-asciisym-font-family: FranklinGothic-Book\; mso-bengali-font-family: FranklinGothic-Book\; mso-bopomofo-font-family: FranklinGothic-Book\; mso-braille-font-family: FranklinGothic-Book\; mso-canadianabor-font-family: FranklinGothic-Book\; mso-cherokee-font-family: FranklinGothic-Book\; mso-currency-font-family: Arial\; mso-cyrillic-font-family: 'Franklin Gothic Book'\; mso-default-font-family: 'Franklin Gothic Book'\; mso-devanagari-font-family: FranklinGothic-Book\; mso-ethiopic-font-family: FranklinGothic-Book\; mso-eudc-font-family: FranklinGothic-Book\; mso-georgian-font-family: FranklinGothic-Book\; mso-greek-font-family: 'Franklin Gothic Book'\; mso-gurmukhi-font-family: FranklinGothic-Book\; mso-halfwidthkana-font-family: FranklinGothic-Book\; mso-han-font-family: FranklinGothic-Book\; mso-hangul-font-family: FranklinGothic-Book\; mso-hansurrogate-font-family: FranklinGothic-Book\; mso-hebrew-font-family: Arial\; mso-kana-font-family: FranklinGothic-Book\; mso-kannada-font-family: FranklinGothic-Book\; mso-khmer-font-family: FranklinGothic-Book\; mso-lao-font-family: FranklinGothic-Book\; mso-latin-font-family: 'Franklin Gothic Book'\; mso-latinext-font-family: 'Franklin Gothic Book'\; mso-malayalam-font-family: FranklinGothic-Book\; mso-mongolian-font-family: FranklinGothic-Book\; mso-myanmar-font-family: FranklinGothic-Book\; mso-nonhansurrogate-font-family: FranklinGothic-Book\; mso-ogham-font-family: FranklinGothic-Book\; mso-oriya-font-family: FranklinGothic-Book\; mso-runic-font-family: FranklinGothic-Book\; mso-sinhala-font-family: FranklinGothic-Book\; mso-syriac-font-family: FranklinGothic-Book\; mso-tamil-font-family: FranklinGothic-Book\; mso-telugu-font-family: FranklinGothic-Book\; mso-thaana-font-family: FranklinGothic-Book\; mso-thai-font-family: FranklinGothic-Book\; mso-tibetan-font-family: FranklinGothic-Book\; mso-yi-font-family: FranklinGothic-Book">this sellout event provides an opportunity for Modesto business leaders to hear first-hand the Mayor’s plans for 2015 and 2016. The address is followed by audience questions\, putting the public in direct touch with local government. </SPAN><SPAN style="mso-arabic-font-family: Arial\; mso-armenian-font-family: Arial\; mso-currency-font-family: Arial\; mso-cyrillic-font-family: 'Franklin Gothic Book'\; mso-default-font-family: 'Franklin Gothic Book'\; mso-greek-font-family: 'Franklin Gothic Book'\; mso-hebrew-font-family: Arial\; mso-latin-font-family: 'Franklin Gothic Book'\; mso-latinext-font-family: 'Franklin Gothic Book'"><SPAN style="mso-spacerun: yes">&nbsp\;</SPAN></SPAN><SPAN style="mso-arabic-font-family: Arial\; mso-armenian-font-family: Arial\; mso-asciisym-font-family: FranklinGothic-Book\; mso-bengali-font-family: FranklinGothic-Book\; mso-bopomofo-font-family: FranklinGothic-Book\; mso-braille-font-family: FranklinGothic-Book\; mso-canadianabor-font-family: FranklinGothic-Book\; mso-cherokee-font-family: FranklinGothic-Book\; mso-currency-font-family: Arial\; mso-cyrillic-font-family: 'Franklin Gothic Book'\; mso-default-font-family: 'Franklin Gothic Book'\; mso-devanagari-font-family: FranklinGothic-Book\; mso-ethiopic-font-family: FranklinGothic-Book\; mso-eudc-font-family: FranklinGothic-Book\; mso-georgian-font-family: FranklinGothic-Book\; mso-greek-font-family: 'Franklin Gothic Book'\; mso-gurmukhi-font-family: FranklinGothic-Book\; mso-halfwidthkana-font-family: FranklinGothic-Book\; mso-han-font-family: FranklinGothic-Book\; mso-hangul-font-family: FranklinGothic-Book\; mso-hansurrogate-font-family: FranklinGothic-Book\; mso-hebrew-font-family: Arial\; mso-kana-font-family: FranklinGothic-Book\; mso-kannada-font-family: FranklinGothic-Book\; mso-khmer-font-family: FranklinGothic-Book\; mso-lao-font-family: FranklinGothic-Book\; mso-latin-font-family: 'Franklin Gothic Book'\; mso-latinext-font-family: 'Franklin Gothic Book'\; mso-malayalam-font-family: FranklinGothic-Book\; mso-mongolian-font-family: FranklinGothic-Book\; mso-myanmar-font-family: FranklinGothic-Book\; mso-nonhansurrogate-font-family: FranklinGothic-Book\; mso-ogham-font-family: FranklinGothic-Book\; mso-oriya-font-family: FranklinGothic-Book\; mso-runic-font-family: FranklinGothic-Book\; mso-sinhala-font-family: FranklinGothic-Book\; mso-syriac-font-family: FranklinGothic-Book\; mso-tamil-font-family: FranklinGothic-Book\; mso-telugu-font-family: FranklinGothic-Book\; mso-thaana-font-family: FranklinGothic-Book\; mso-thai-font-family: FranklinGothic-Book\; mso-tibetan-font-family: FranklinGothic-Book\; mso-yi-font-family: FranklinGothic-Book">The event has sold out each year and we anticipate even greater popularity in 2015.</SPAN><?xml:namespace prefix = o ns = "urn:schemas-microsoft-com:office:office" /><o:p></o:p></SPAN><SPAN style="mso-arabic-font-family: Arial\; mso-armenian-font-family: Arial\; mso-currency-font-family: Arial\; mso-cyrillic-font-family: 'Franklin Gothic Book'\; mso-default-font-family: 'Franklin Gothic Book'\; mso-greek-font-family: 'Franklin Gothic Book'\; mso-hebrew-font-family: Arial\; mso-latin-font-family: 'Franklin Gothic Book'\; mso-latinext-font-family: 'Franklin Gothic Book'"></P><P class=MsoNormal style="MARGIN: 0in 0in 0pt\; mso-pagination: none"></SPAN><FONT size=2>.</FONT></SPAN></FONT><o:p></o:p></SPAN><SPAN style="mso-arabic-font-family: Arial\; mso-armenian-font-family: Arial\; mso-currency-font-family: Arial\; mso-cyrillic-font-family: 'Franklin Gothic Book'\; mso-default-font-family: 'Franklin Gothic Book'\; mso-greek-font-family: 'Franklin Gothic Book'\; mso-hebrew-font-family: Arial\; mso-latin-font-family: 'Franklin Gothic Book'\; mso-latinext-font-family: 'Franklin Gothic Book'"></P></SPAN></DIV>
LOCATION:Doubletree by Hilton Modesto 1150 9th Street Modesto\, CA 95354
UID:e.2695.1558
SEQUENCE:3
DTSTAMP:20260419T154456Z
URL:https://business.modchamber.org/events/details/state-of-the-city-2016-03-22-2016-1558
END:VEVENT

END:VCALENDAR
