BEGIN:VCALENDAR
VERSION:2.0
PRODID:-//ChamberMaster//Event Calendar 2.0//EN
METHOD:PUBLISH
X-PUBLISHED-TTL:P3D
REFRESH-INTERVAL:P3D
CALSCALE:GREGORIAN
BEGIN:VEVENT
DTSTART:20140201T160000Z
DTEND:20140202T010000Z
X-MICROSOFT-CDO-ALLDAYEVENT:FALSE
SUMMARY:State of the City 2014
DESCRIPTION:
X-ALT-DESC;FMTTYPE=text/html:
LOCATION:
UID:e.2695.338
SEQUENCE:3
DTSTAMP:20260423T044108Z
URL:https://business.modchamber.org/events/details/state-of-the-city-2014-02-01-2014-338
END:VEVENT

END:VCALENDAR
