BEGIN:VCALENDAR
VERSION:2.0
PRODID:-//ChamberMaster//Event Calendar 2.0//EN
METHOD:PUBLISH
X-PUBLISHED-TTL:P3D
REFRESH-INTERVAL:P3D
CALSCALE:GREGORIAN
BEGIN:VEVENT
DTSTART:20121217T160000Z
DTEND:20130326T000000Z
X-MICROSOFT-CDO-ALLDAYEVENT:FALSE
SUMMARY:State of the City 2013
DESCRIPTION:
X-ALT-DESC;FMTTYPE=text/html:
LOCATION:
UID:e.2695.221
SEQUENCE:3
DTSTAMP:20260424T003319Z
URL:https://business.modchamber.org/events/details/state-of-the-city-2013-12-17-2012-221
END:VEVENT

END:VCALENDAR
