BEGIN:VCALENDAR
VERSION:2.0
PRODID:-//ChamberMaster//Event Calendar 2.0//EN
METHOD:PUBLISH
X-PUBLISHED-TTL:P3D
REFRESH-INTERVAL:P3D
CALSCALE:GREGORIAN
BEGIN:VEVENT
DTSTART:20120801T150000Z
DTEND:20121102T000000Z
X-MICROSOFT-CDO-ALLDAYEVENT:FALSE
SUMMARY:State of Education 2012
DESCRIPTION:
X-ALT-DESC;FMTTYPE=text/html:
LOCATION:
UID:e.2695.219
SEQUENCE:3
DTSTAMP:20260424T094505Z
URL:https://business.modchamber.org/events/details/state-of-education-2012-08-01-2012-219
END:VEVENT

END:VCALENDAR
