BEGIN:VCALENDAR
VERSION:2.0
PRODID:-//ChamberMaster//Event Calendar 2.0//EN
METHOD:PUBLISH
X-PUBLISHED-TTL:P3D
REFRESH-INTERVAL:P3D
CALSCALE:GREGORIAN
BEGIN:VEVENT
DTSTART:20150820T070000Z
DTEND:20150820T070000Z
X-MICROSOFT-CDO-ALLDAYEVENT:FALSE
SUMMARY:State of Business & Education 2015
DESCRIPTION:In it's 5th year\, this event seeks to connect the business and education communites\, through the development of programs\, to achieve positive student education and career preparation outcomes. These outcomes thenimpact our community and overall quality of life. This year’s event promises to provide attendees with a clear understanding of our local college and university assets\, their impact on commerce\, and partnership opportunities.  This year’s “Excellence in Education Award”\, sponsored by Modesto Sunrise Rotary\, will also be presented. Our guest speakers will include Dr. Joseph Sheley\, President of CSU\, Stanislaus and Mrs. Jill Stearns\, President of Modesto Junior  College\, among others.  You will definitely want a seat at this year’s event!
X-ALT-DESC;FMTTYPE=text/html:<P></P><P class=MsoNormal style="TEXT-JUSTIFY: newspaper\; TEXT-KASHIDA-SPACE: 50%\; TEXT-ALIGN: justify\; mso-pagination: widow-orphan"><SPAN lang=en-US style="FONT-SIZE: 11pt\; COLOR: black\; FONT-FAMILY: Calibri\; mso-armenian-font-family: Calibri\; mso-hebrew-font-family: Calibri\; language: en-US\; mso-ansi-language: en-US\; mso-ligatures: none\; mso-style-textfill-type: solid\; mso-style-textfill-fill-color: black\; mso-style-textfill-fill-alpha: 100%">In it's 5th year\, this event seeks to connect the business and education communites\, through the development of programs\, to achieve positive student education and career preparation outcomes. These outcomes thenimpact our community and overall quality of life. </SPAN></P><P class=MsoNormal style="TEXT-JUSTIFY: newspaper\; TEXT-KASHIDA-SPACE: 50%\; TEXT-ALIGN: justify\; mso-pagination: widow-orphan"><SPAN lang=en-US style="FONT-SIZE: 11pt\; COLOR: black\; FONT-FAMILY: Calibri\; mso-armenian-font-family: Calibri\; mso-hebrew-font-family: Calibri\; language: en-US\; mso-ansi-language: en-US\; mso-ligatures: none\; mso-style-textfill-type: solid\; mso-style-textfill-fill-color: black\; mso-style-textfill-fill-alpha: 100%">This year’s event promises to provide attendees with a clear understanding of our local college and<SPAN style="mso-spacerun: yes">&nbsp\;</SPAN>university assets\, their impact on commerce\, and partnership opportunities.<SPAN style="mso-spacerun: yes">&nbsp\; </SPAN>This year’s “Excellence in<SPAN style="mso-spacerun: yes">&nbsp\;</SPAN>Education Award”\, sponsored by Modesto Sunrise Rotary\, will also be presented. Our guest speakers will include Dr. Joseph Sheley\, President of CSU\, Stanislaus and Mrs. Jill Stearns\, President of Modesto Junior<SPAN style="mso-spacerun: yes">&nbsp\; </SPAN>College\, among others.<SPAN style="mso-spacerun: yes">&nbsp\; </SPAN>You will definitely want a seat at this year’s event!</SPAN><SPAN lang=en-US style="FONT-SIZE: 11pt\; COLOR: red\; FONT-FAMILY: Calibri\; mso-armenian-font-family: Calibri\; mso-hebrew-font-family: Calibri\; language: en-US\; mso-ansi-language: en-US\; mso-ligatures: none\; mso-style-textfill-type: solid\; mso-style-textfill-fill-color: red\; mso-style-textfill-fill-alpha: 100%"><?xml:namespace prefix = o ns = "urn:schemas-microsoft-com:office:office" /><o:p></o:p></SPAN></P><P class=MsoNormal style="mso-pagination: none"><SPAN lang=en-US style="language: en-US\; mso-ligatures: none">&nbsp\;<o:p></o:p></SPAN></P>
LOCATION:Martin G. Petersen Center 720 - 12th Street Modesto\, CA 95354
UID:e.2695.608
SEQUENCE:3
DTSTAMP:20260420T003259Z
URL:https://business.modchamber.org/events/details/state-of-business-education-2015-08-20-2015-608
END:VEVENT

END:VCALENDAR
