BEGIN:VCALENDAR
VERSION:2.0
PRODID:-//ChamberMaster//Event Calendar 2.0//EN
METHOD:PUBLISH
X-PUBLISHED-TTL:P3D
REFRESH-INTERVAL:P3D
CALSCALE:GREGORIAN
BEGIN:VEVENT
DTSTART:20140827T140000Z
DTEND:20140827T170000Z
X-MICROSOFT-CDO-ALLDAYEVENT:FALSE
SUMMARY:State of Business & Education
DESCRIPTION:This event introduces a major collaborative initiative between business\, education and the non-profit sector on how we\, as a Chamber\, can positively affect the workforce within our County. Our goal is to bring a business challenge to the forefront\, then offer SOLUTIONS that businesses can work with to positively transform the business and education alliance.  Working together to influence change\, we can make a difference in educating the workforce within our community.  Join us as we work to create job diversity and ultimately\, to bring more business dollars back to our City.
X-ALT-DESC;FMTTYPE=text/html:This event introduces a major collaborative initiative between business\, education and the non-profit sector on how we\, as a Chamber\, can positively affect the workforce within our County. Our goal is to bring a business challenge to the forefront\, then offer SOLUTIONS that businesses can work with to positively transform the business and education alliance.  Working together to influence change\, we can make a difference in educating the workforce within our community.  Join us as we work to create job diversity and ultimately\, to bring more business dollars back to our City.
LOCATION:Martin G. Petersen Center 720 - 12th Street Modesto\, CA 95354
UID:e.2695.416
SEQUENCE:3
DTSTAMP:20260422T194311Z
URL:https://business.modchamber.org/events/details/state-of-business-education-08-27-2014-416
END:VEVENT

END:VCALENDAR
