BEGIN:VCALENDAR
VERSION:2.0
PRODID:-//ChamberMaster//Event Calendar 2.0//EN
METHOD:PUBLISH
X-PUBLISHED-TTL:P3D
REFRESH-INTERVAL:P3D
CALSCALE:GREGORIAN
BEGIN:VEVENT
DTSTART:20160424T023000Z
DTEND:20160423T070000Z
X-MICROSOFT-CDO-ALLDAYEVENT:FALSE
SUMMARY:Stars and Stripes Forever A World War II Concert-Presented by Johansen High School
DESCRIPTION:This concert\, focusing on the theme of World War II\, will feature a variety of collaborations\, representing every academic area on the Johansen campus. The jazz band will perform in the style of Glenn Miller when he broadcast propaganda for the Allies. The choir will perform pop music from the good old days\, and the concert band will take us from honoring the troops who served to premiering a piece written to honor those who suffered at Japanese internment camps. The concert will help raise money for the Veterans Foundation of Stanislaus County as they work to provide a vital link to services for veterans across the county. There will be raffles and donations accepted in their honor. If you have any questions about the event itself please contact Brad Hart\, Director of Instrumental Music at Johansen High School via email at hart.b@monet.k12.ca.us or by phone at (209) 202-4586.\n\nDoors at 6:30\; concert at 7:30 p.m.\nAdmission: $12 general\; $8 for veterans\, seniors and students\nContact : 	State Theatre\nPhone : 	BOX OFFICE (209) 527-4697\nEmail : 	\nWeb Site : 	thestate.org
X-ALT-DESC;FMTTYPE=text/html:This concert\, focusing on the theme of World War II\, will feature a variety of collaborations\, representing every academic area on the Johansen campus. The jazz band will perform in the style of Glenn Miller when he broadcast propaganda for the Allies. The choir will perform pop music from the good old days\, and the concert band will take us from honoring the troops who served to premiering a piece written to honor those who suffered at Japanese internment camps. The concert will help raise money for the Veterans Foundation of Stanislaus County as they work to provide a vital link to services for veterans across the county. There will be raffles and donations accepted in their honor. If you have any questions about the event itself please contact Brad Hart\, Director of Instrumental Music at Johansen High School via email at hart.b@monet.k12.ca.us or by phone at (209) 202-4586.\n\nDoors at 6:30\; concert at 7:30 p.m.\nAdmission: $12 general\; $8 for veterans\, seniors and students\nContact : 	State Theatre\nPhone : 	BOX OFFICE (209) 527-4697\nEmail : 	\nWeb Site : 	thestate.org
LOCATION:State Theatre 1307 J Street Modesto\, CA 95354
UID:e.2695.1626
SEQUENCE:3
DTSTAMP:20260419T141415Z
URL:https://business.modchamber.org/events/details/stars-and-stripes-forever-a-world-war-ii-concert-presented-by-johansen-high-school-04-23-2016-1626
END:VEVENT

END:VCALENDAR
