BEGIN:VCALENDAR
VERSION:2.0
PRODID:-//ChamberMaster//Event Calendar 2.0//EN
METHOD:PUBLISH
X-PUBLISHED-TTL:P3D
REFRESH-INTERVAL:P3D
CALSCALE:GREGORIAN
BEGIN:VEVENT
DTSTART:20150317T220000Z
DTEND:20150317T233000Z
X-MICROSOFT-CDO-ALLDAYEVENT:FALSE
SUMMARY:Stanislaus Reads! Launch Meeting
DESCRIPTION:Join us as we introduce the community report & roadmap for Stanislaus READS!\, a multi-agency\, multi-year effort to uncover many winning solutions to help children read – and succeed – by third grade.
X-ALT-DESC;FMTTYPE=text/html:Join us as we introduce the community report & roadmap for Stanislaus READS!\, a multi-agency\, multi-year effort to uncover many winning solutions to help children read – and succeed – by third grade.
LOCATION:Martin Petersen Event Center 720 12th Street Modesto\, CA
UID:e.2695.772
SEQUENCE:3
DTSTAMP:20260420T073913Z
URL:https://business.modchamber.org/events/details/stanislaus-reads-launch-meeting-03-17-2015-772
END:VEVENT

END:VCALENDAR
