BEGIN:VCALENDAR
VERSION:2.0
PRODID:-//ChamberMaster//Event Calendar 2.0//EN
METHOD:PUBLISH
X-PUBLISHED-TTL:P3D
REFRESH-INTERVAL:P3D
CALSCALE:GREGORIAN
BEGIN:VEVENT
DTSTART;VALUE=DATE:20160304
DTEND;VALUE=DATE:20160307
TRANSP:TRANSPARENT
X-MICROSOFT-CDO-ALLDAYEVENT:TRUE
SUMMARY:Stanislaus County Home & Garden Show
DESCRIPTION:The Stanislaus County Home & Garden Show offers homeowners and future homeowners the opportunity to visit several vendors in one place at one time. Guests can visit vendors and get tips and new ideas to help improve and beautify their homes and yards.\n\nOur Stanislaus show is jam packed with fun features. We have our Food Truck Wars which gives show goers a chance to try several gourmet food trucks and fun activities for the kids!\n\nMarch 4-6\n\nShow times:\nFriday: 12pm-6pm\nSaturday & Sunday: 10am-5pm\n\nModesto Centre Plaza\n1000 L St\, Modesto\, CA ?\n\n$3 general admission. Senior Citizens $2 on Friday.\nContact :	\nPhone :	209-941-1880\nEmail :	\nWeb Site :	www.metroexpositions.com
X-ALT-DESC;FMTTYPE=text/html:The Stanislaus County Home & Garden Show offers homeowners and future homeowners the opportunity to visit several vendors in one place at one time. Guests can visit vendors and get tips and new ideas to help improve and beautify their homes and yards.\n\nOur Stanislaus show is jam packed with fun features. We have our Food Truck Wars which gives show goers a chance to try several gourmet food trucks and fun activities for the kids!\n\nMarch 4-6\n\nShow times:\nFriday: 12pm-6pm\nSaturday & Sunday: 10am-5pm\n\nModesto Centre Plaza\n1000 L St\, Modesto\, CA ?\n\n$3 general admission. Senior Citizens $2 on Friday.\nContact :	\nPhone :	209-941-1880\nEmail :	\nWeb Site :	www.metroexpositions.com\n
LOCATION:Centre Plaza 1000 L Street Modesto\, CA 95354
UID:e.2695.1408
SEQUENCE:3
DTSTAMP:20260419T164816Z
URL:https://business.modchamber.org/events/details/stanislaus-county-home-garden-show-03-04-2016-1408
END:VEVENT

END:VCALENDAR
