BEGIN:VCALENDAR
VERSION:2.0
PRODID:-//ChamberMaster//Event Calendar 2.0//EN
METHOD:PUBLISH
X-PUBLISHED-TTL:P3D
REFRESH-INTERVAL:P3D
CALSCALE:GREGORIAN
BEGIN:VEVENT
DTSTART:20140408T160000Z
DTEND:20140408T070000Z
X-MICROSOFT-CDO-ALLDAYEVENT:FALSE
SUMMARY:Stanislaus County Board Meeting
DESCRIPTION:The Board of Supervisors welcomes you to its meetings which are regularly held each Tuesday\, and your interest is encouraged and appreciated. For more information go to StanislausCounty.com
X-ALT-DESC;FMTTYPE=text/html:The Board of Supervisors welcomes you to its meetings which are regularly held each Tuesday\, and your interest is encouraged and appreciated. For more information go to <A dataFld=0:0 href="http://www.stancounty.com/calendar/calendar.shtm">StanislausCounty.com</A>
LOCATION:Stanislaus County Board Meeting 1010 10th Street Modesto\, CA 95354
UID:e.2695.451
SEQUENCE:3
DTSTAMP:20260423T032304Z
URL:https://business.modchamber.org/events/details/stanislaus-county-board-meeting-04-08-2014-451
END:VEVENT

END:VCALENDAR
