BEGIN:VCALENDAR
VERSION:2.0
PRODID:-//ChamberMaster//Event Calendar 2.0//EN
METHOD:PUBLISH
X-PUBLISHED-TTL:P3D
REFRESH-INTERVAL:P3D
CALSCALE:GREGORIAN
BEGIN:VEVENT
DTSTART:20150412T030000Z
DTEND:20150411T070000Z
X-MICROSOFT-CDO-ALLDAYEVENT:FALSE
SUMMARY:Stand Up To Cancer
DESCRIPTION:Presented by Relay for Life\n\nStand up to Cancer Comedy Night at the Fat Cat Music House and Lounge!\n\nDoors open at 6PM.\n\nShow Begins at 8PM\n\nGet there early for seating / standing room only.\nContact : 	Fat Cat Music House & Lounge\nPhone : 	209-581-1480
X-ALT-DESC;FMTTYPE=text/html:	Presented by Relay for Life\n\nStand up to Cancer Comedy Night at the Fat Cat Music House and Lounge!\n\nDoors open at 6PM.\n\nShow Begins at 8PM\n\nGet there early for seating / standing room only.\nContact : 	Fat Cat Music House & Lounge\nPhone : 	209-581-1480
LOCATION:Fat Cat Music House & Lounge 930 11th St Modesto\, CA 95354
UID:e.2695.855
SEQUENCE:3
DTSTAMP:20260420T062937Z
URL:https://business.modchamber.org/events/details/stand-up-to-cancer-04-11-2015-855
END:VEVENT

END:VCALENDAR
