BEGIN:VCALENDAR
VERSION:2.0
PRODID:-//ChamberMaster//Event Calendar 2.0//EN
METHOD:PUBLISH
X-PUBLISHED-TTL:P3D
REFRESH-INTERVAL:P3D
CALSCALE:GREGORIAN
BEGIN:VEVENT
DTSTART:20160206T020000Z
DTEND:20160205T080000Z
X-MICROSOFT-CDO-ALLDAYEVENT:FALSE
SUMMARY:St. Stanislaus Catholic School's Crab Feed
DESCRIPTION:Entertainment\, Cocktails & All you can eat crab!\n\nIncluded with your meal:\nAll you can eat CRAB\nPasta\nSalad\nBread\nWine & Soda\n\nTickets: $50.00 Adult\nChild (12 & under) $25.00\nContact :	\nPhone :	(209) 484-4370\nEmail :	\nWeb Site :
X-ALT-DESC;FMTTYPE=text/html:Entertainment\, Cocktails & All you can eat crab!\n\nIncluded with your meal:\nAll you can eat CRAB\nPasta\nSalad\nBread\nWine & Soda\n\nTickets: $50.00 Adult\nChild (12 & under) $25.00\nContact :	\nPhone :	(209) 484-4370\nEmail :	\nWeb Site :	
LOCATION:St. Stanislaus Catholic Church 1416 Maze Blvd Modesto\, CA 95351
UID:e.2695.1443
SEQUENCE:3
DTSTAMP:20260419T164615Z
URL:https://business.modchamber.org/events/details/st-stanislaus-catholic-school-s-crab-feed-02-05-2016-1443
END:VEVENT

END:VCALENDAR
