BEGIN:VCALENDAR
VERSION:2.0
PRODID:-//ChamberMaster//Event Calendar 2.0//EN
METHOD:PUBLISH
X-PUBLISHED-TTL:P3D
REFRESH-INTERVAL:P3D
CALSCALE:GREGORIAN
BEGIN:VEVENT
DTSTART:20150315T000000Z
DTEND:20150315T023000Z
X-MICROSOFT-CDO-ALLDAYEVENT:FALSE
SUMMARY:St.Patrick's Day Party
DESCRIPTION:$25 per person. Call Janie at 522-1739 by March 7 to make reservations. The evening includes traditional St. Patrick’s Day dinner\, no-host bar and entertainment.\nContact :	McHenry Mansion\nPhone :	209-522-1739\nEmail :	\nWeb Site :	www.mchenrymansion.org
X-ALT-DESC;FMTTYPE=text/html:$25 per person. Call Janie at 522-1739 by March 7 to make reservations. The evening includes traditional St. Patrick’s Day dinner\, no-host bar and entertainment.\nContact :	McHenry Mansion\nPhone :	209-522-1739\nEmail :	\nWeb Site :	www.mchenrymansion.org
LOCATION:McHenry Mansion 906 15th St Modesto\, CA 95354
UID:e.2695.794
SEQUENCE:3
DTSTAMP:20260420T073648Z
URL:https://business.modchamber.org/events/details/st-patrick-s-day-party-03-14-2015-794
END:VEVENT

END:VCALENDAR
