BEGIN:VCALENDAR
VERSION:2.0
PRODID:-//ChamberMaster//Event Calendar 2.0//EN
METHOD:PUBLISH
X-PUBLISHED-TTL:P3D
REFRESH-INTERVAL:P3D
CALSCALE:GREGORIAN
BEGIN:VEVENT
DTSTART:20160131T020000Z
DTEND:20160130T080000Z
X-MICROSOFT-CDO-ALLDAYEVENT:FALSE
SUMMARY:St. Joseph's Crab Feed
DESCRIPTION:St. Joseph's Knights of Columbus. Tickets for the event can be purchased at the church office. $50.00\nContact :	\nPhone :	209-918-2847\nEmail :	\nWeb Site :
X-ALT-DESC;FMTTYPE=text/html:St. Joseph's Knights of Columbus. Tickets for the event can be purchased at the church office. $50.00\nContact :	\nPhone :	209-918-2847\nEmail :	\nWeb Site :	
LOCATION:St. Joseph’s Catholic Church 1813 Oakdale Road Modesto\, CA 95356
UID:e.2695.1351
SEQUENCE:3
DTSTAMP:20260419T174734Z
URL:https://business.modchamber.org/events/details/st-joseph-s-crab-feed-01-30-2016-1351
END:VEVENT

END:VCALENDAR
