BEGIN:VCALENDAR
VERSION:2.0
PRODID:-//ChamberMaster//Event Calendar 2.0//EN
METHOD:PUBLISH
X-PUBLISHED-TTL:P3D
REFRESH-INTERVAL:P3D
CALSCALE:GREGORIAN
BEGIN:VEVENT
DTSTART:20160312T210000Z
DTEND:20160312T080000Z
X-MICROSOFT-CDO-ALLDAYEVENT:FALSE
SUMMARY:Springtime in Paris Tea Party & Fashion Show
DESCRIPTION:A fundraising event to benefit the women's new life program.\n\nMore details to come.\nContact :	Modesto Gospel Mission\nPhone :	(209) 529-8259\nEmail :	\nWeb Site :
X-ALT-DESC;FMTTYPE=text/html:A fundraising event to benefit the women's new life program.\n\nMore details to come.\nContact :	Modesto Gospel Mission\nPhone :	(209) 529-8259\nEmail :	\nWeb Site :	
LOCATION:SOS Club 819 Sunset Ave Modesto\, CA 95351
UID:e.2695.1461
SEQUENCE:3
DTSTAMP:20260419T154635Z
URL:https://business.modchamber.org/events/details/springtime-in-paris-tea-party-fashion-show-03-12-2016-1461
END:VEVENT

END:VCALENDAR
