BEGIN:VCALENDAR
VERSION:2.0
PRODID:-//ChamberMaster//Event Calendar 2.0//EN
METHOD:PUBLISH
X-PUBLISHED-TTL:P3D
REFRESH-INTERVAL:P3D
CALSCALE:GREGORIAN
BEGIN:VEVENT
DTSTART:20160507T180000Z
DTEND:20160507T070000Z
X-MICROSOFT-CDO-ALLDAYEVENT:FALSE
SUMMARY:Spring Garden Tea
DESCRIPTION:A first time ever\, limited seating\, "Spring Garden Tea" in the Mansion Visitors Center Patio!\n\nThe food will be great\, the patio garden is a delightful Spring venue. Make it a special day with mothers\, daughters\, sisters\, friends\, co-workers\, or just a great gift to yourself!\n\nRemember space is limited so get your space reserved as quickly as possible! Make your reservations at $20 per person by calling the Visitors Center (209-549-0428).\nContact : 	McHenry Mansion - Visitors Center\nPhone : 	209-549-0428\nEmail : 	\nWeb Site :
X-ALT-DESC;FMTTYPE=text/html:	A first time ever\, limited seating\, "Spring Garden Tea" in the Mansion Visitors Center Patio!\n\nThe food will be great\, the patio garden is a delightful Spring venue. Make it a special day with mothers\, daughters\, sisters\, friends\, co-workers\, or just a great gift to yourself!\n\nRemember space is limited so get your space reserved as quickly as possible! Make your reservations at $20 per person by calling the Visitors Center (209-549-0428).\nContact : 	McHenry Mansion - Visitors Center\nPhone : 	209-549-0428\nEmail : 	\nWeb Site :
LOCATION:McHenry Ave 924 15th Street Modesto\, CA 95354
UID:e.2695.1693
SEQUENCE:3
DTSTAMP:20260419T124618Z
URL:https://business.modchamber.org/events/details/spring-garden-tea-05-07-2016-1693
END:VEVENT

END:VCALENDAR
