BEGIN:VCALENDAR
VERSION:2.0
PRODID:-//ChamberMaster//Event Calendar 2.0//EN
METHOD:PUBLISH
X-PUBLISHED-TTL:P3D
REFRESH-INTERVAL:P3D
CALSCALE:GREGORIAN
BEGIN:VEVENT
DTSTART;VALUE=DATE:20150601
DTEND;VALUE=DATE:20150602
TRANSP:TRANSPARENT
X-MICROSOFT-CDO-ALLDAYEVENT:TRUE
SUMMARY:Splish Splash Day Camp
DESCRIPTION:Sign your kids up today for our Splish Splash Day Camp!  Monday - Thursday 9-1:30 pm.  Your kids will have a blast!!  Call for more information
X-ALT-DESC;FMTTYPE=text/html:Sign your kids up today for our Splish Splash Day Camp!  Monday - Thursday 9-1:30 pm.  Your kids will have a blast!!  Call for more information
LOCATION:Brenda Athletic Clubs 200 Norwegian Ave Modesto\, CA 95350
UID:e.2695.977
SEQUENCE:3
DTSTAMP:20260420T031648Z
URL:https://business.modchamber.org/events/details/splish-splash-day-camp-06-01-2015-977
END:VEVENT

END:VCALENDAR
