BEGIN:VCALENDAR
VERSION:2.0
PRODID:-//ChamberMaster//Event Calendar 2.0//EN
METHOD:PUBLISH
X-PUBLISHED-TTL:P3D
REFRESH-INTERVAL:P3D
CALSCALE:GREGORIAN
BEGIN:VEVENT
DTSTART:20150530T010000Z
DTEND:20150529T070000Z
X-MICROSOFT-CDO-ALLDAYEVENT:FALSE
SUMMARY:Soul Train
DESCRIPTION:Come get groovy with the award winning dance students from Pointe of Dance Studio as they present the studio's 13th annual recital showcase "Soul Train." Dancers will perform to lots of great music from the 60's\, 70's\, 80's and 90's--a show you won't want to miss!
X-ALT-DESC;FMTTYPE=text/html:Come get groovy with the award winning dance students from Pointe of Dance Studio as they present the studio's 13th annual recital showcase "Soul Train." Dancers will perform to lots of great music from the 60's\, 70's\, 80's and 90's--a show you won't want to miss!
LOCATION:Gallo Center For The Arts 1000 I St Modesto\, CA 95354
UID:e.2695.968
SEQUENCE:3
DTSTAMP:20260420T045218Z
URL:https://business.modchamber.org/events/details/soul-train-05-29-2015-968
END:VEVENT

END:VCALENDAR
