BEGIN:VCALENDAR
VERSION:2.0
PRODID:-//ChamberMaster//Event Calendar 2.0//EN
METHOD:PUBLISH
X-PUBLISHED-TTL:P3D
REFRESH-INTERVAL:P3D
CALSCALE:GREGORIAN
BEGIN:VEVENT
DTSTART:20150405T170000Z
DTEND:20150405T200000Z
X-MICROSOFT-CDO-ALLDAYEVENT:FALSE
SUMMARY:SOS Clubs Easter Brunch
DESCRIPTION:$25 INCLUSIVE ADULT\n$15 INCLUSIVE CHILD\n\nFresh baked assorted danish\, scone and muffins.\n\nOmelet station.\n\nScrambled eggs\, breakfast potatoes\, eggs benedict\, hickory ham & maple sausage.\n\ncarving station to include roasted prime rib\, an au jus and cream horseradish\, plus baked ham.\n\nCaesar Salad\nFresh assorted fruit\nItalian pesto bow tie pasta salad\nchilled peel & eat shrimp\nsourdough rolls & butter\n\nChicken Cordon Bleu with Chardonnay cream sauce\nFresh seasonal vegetables\nBaby red potatoes\n\nCheesecake\, strawberry shortcake\, mousse cake\, Eclairs & cookies\n\ncoffee\, tea\, decaf & champagne\nContact : 	SOS Club\nPhone : 	209.578.5801\nEmail :
X-ALT-DESC;FMTTYPE=text/html:$25 INCLUSIVE ADULT\n$15 INCLUSIVE CHILD\n\nFresh baked assorted danish\, scone and muffins.\n\nOmelet station.\n\nScrambled eggs\, breakfast potatoes\, eggs benedict\, hickory ham & maple sausage.\n\ncarving station to include roasted prime rib\, an au jus and cream horseradish\, plus baked ham.\n\nCaesar Salad\nFresh assorted fruit\nItalian pesto bow tie pasta salad\nchilled peel & eat shrimp\nsourdough rolls & butter\n\nChicken Cordon Bleu with Chardonnay cream sauce\nFresh seasonal vegetables\nBaby red potatoes\n\nCheesecake\, strawberry shortcake\, mousse cake\, Eclairs & cookies\n\ncoffee\, tea\, decaf & champagne\nContact : 	SOS Club\nPhone : 	209.578.5801\nEmail :
LOCATION:Sos Club 819 Sunset Ave Modesto\, CA 95351
UID:e.2695.848
SEQUENCE:3
DTSTAMP:20260420T073749Z
URL:https://business.modchamber.org/events/details/sos-clubs-easter-brunch-04-05-2015-848
END:VEVENT

END:VCALENDAR
