BEGIN:VCALENDAR
VERSION:2.0
PRODID:-//ChamberMaster//Event Calendar 2.0//EN
METHOD:PUBLISH
X-PUBLISHED-TTL:P3D
REFRESH-INTERVAL:P3D
CALSCALE:GREGORIAN
BEGIN:VEVENT
DTSTART:20150510T170000Z
DTEND:20150510T070000Z
X-MICROSOFT-CDO-ALLDAYEVENT:FALSE
SUMMARY:SOS Club's Mother's Day Brunch
DESCRIPTION:$25 INCLUSIVE ADULT\n$15 INCLUSIVE CHILD\n\nMENU\n\nSpring mixed greens\nassorted dressings\nmarinated mushroom salad\nassorted fruit\npasta primavera salad\nassorted rolls\n\nblueberry and cinnamon rolls\ncoffee cake loaves\ndanish & muffins\n\nomelet station\n\ncarving station\nslow roasted top sirloin round\n\nscrambled eggs\nbacon & sausage\ncountry fried potatoes\neggs benedict\ncheese blintz with strawberry sauce\nrice pilaf\nseasonal vegetables\nChicken teriyaki\nseafood newburg\n\nassorted cheesecake\, mousse cake\, carrot cake & strawberry shortcake. \nContact :	SOS Club\nPhone :	209-578-5801
X-ALT-DESC;FMTTYPE=text/html:	$25 INCLUSIVE ADULT\n$15 INCLUSIVE CHILD\n\nMENU\n\nSpring mixed greens\nassorted dressings\nmarinated mushroom salad\nassorted fruit\npasta primavera salad\nassorted rolls\n\nblueberry and cinnamon rolls\ncoffee cake loaves\ndanish & muffins\n\nomelet station\n\ncarving station\nslow roasted top sirloin round\n\nscrambled eggs\nbacon & sausage\ncountry fried potatoes\neggs benedict\ncheese blintz with strawberry sauce\nrice pilaf\nseasonal vegetables\nChicken teriyaki\nseafood newburg\n\nassorted cheesecake\, mousse cake\, carrot cake & strawberry shortcake. \nContact :	SOS Club\nPhone :	209-578-5801
LOCATION:SOS Club 819 Sunset Ave Modesto\, CA 95351
UID:e.2695.931
SEQUENCE:3
DTSTAMP:20260420T045804Z
URL:https://business.modchamber.org/events/details/sos-club-s-mother-s-day-brunch-05-10-2015-931
END:VEVENT

END:VCALENDAR
