BEGIN:VCALENDAR
VERSION:2.0
PRODID:-//ChamberMaster//Event Calendar 2.0//EN
METHOD:PUBLISH
X-PUBLISHED-TTL:P3D
REFRESH-INTERVAL:P3D
CALSCALE:GREGORIAN
BEGIN:VEVENT
DTSTART:20160327T170000Z
DTEND:20160327T190000Z
X-MICROSOFT-CDO-ALLDAYEVENT:FALSE
SUMMARY:SOS CLUB’S EASTER BRUNCH
DESCRIPTION:Enjoy a bountiful Easter Brunch on Easter morning! Seatings at 10:00am & 12:00pm. Open to the public.\nContact : 	SOS Club\nPhone : 	(209) 578-5801\nEmail : 	\nWeb Site :
X-ALT-DESC;FMTTYPE=text/html:	Enjoy a bountiful Easter Brunch on Easter morning! Seatings at 10:00am & 12:00pm. Open to the public.\nContact : 	SOS Club\nPhone : 	(209) 578-5801\nEmail : 	\nWeb Site :
LOCATION:SOS Club 819 Sunset Ave Modesto\, CA 95351
UID:e.2695.1604
SEQUENCE:3
DTSTAMP:20260419T154237Z
URL:https://business.modchamber.org/events/details/sos-club-s-easter-brunch-03-27-2016-1604
END:VEVENT

END:VCALENDAR
