BEGIN:VCALENDAR
VERSION:2.0
PRODID:-//ChamberMaster//Event Calendar 2.0//EN
METHOD:PUBLISH
X-PUBLISHED-TTL:P3D
REFRESH-INTERVAL:P3D
CALSCALE:GREGORIAN
BEGIN:VEVENT
DTSTART:20151018T143000Z
DTEND:20151018T070000Z
X-MICROSOFT-CDO-ALLDAYEVENT:FALSE
SUMMARY:Soroptimist 40th Annual Pancake Breakfast
DESCRIPTION:Soroptimist International of Modesto 40th Annual Pancake Breakfast.\n\nTo be held Sunday October 18\, 2015\n\nMasonic Center\n\n800 Rose Ave – Modesto\, CA\n\nTicket: $6.00 each\n\nWe will also have our annual Craft Faire and Homemade Pantry Items\n\nBring canned goods and enter a drawing for a great prize!\nContact :	Soroptimist International of Modesto\nPhone :	\nEmail :	\nWeb Site :	www.simodesto.com
X-ALT-DESC;FMTTYPE=text/html:Soroptimist International of Modesto 40th Annual Pancake Breakfast.\n\nTo be held Sunday October 18\, 2015\n\nMasonic Center\n\n800 Rose Ave – Modesto\, CA\n\nTicket: $6.00 each\n\nWe will also have our annual Craft Faire and Homemade Pantry Items\n\nBring canned goods and enter a drawing for a great prize!\nContact :	Soroptimist International of Modesto\nPhone :	\nEmail :	\nWeb Site :	www.simodesto.com
LOCATION:Masonic Center 800 Rose Ave Modesto\, CA 95355
UID:e.2695.1234
SEQUENCE:3
DTSTAMP:20260419T230424Z
URL:https://business.modchamber.org/events/details/soroptimist-40th-annual-pancake-breakfast-10-18-2015-1234
END:VEVENT

END:VCALENDAR
