BEGIN:VCALENDAR
VERSION:2.0
PRODID:-//ChamberMaster//Event Calendar 2.0//EN
METHOD:PUBLISH
X-PUBLISHED-TTL:P3D
REFRESH-INTERVAL:P3D
CALSCALE:GREGORIAN
BEGIN:VEVENT
DTSTART:20150927T003000Z
DTEND:20150927T050000Z
X-MICROSOFT-CDO-ALLDAYEVENT:FALSE
SUMMARY:Soiree of Central Valley
DESCRIPTION:Help the American Cancer Society finish the fight against cancer by joining us for a unique\, upscaleevent\, complete with a farm-to-fork gourmet dinner\, entertainment\, auctions\, and other special activities.
X-ALT-DESC;FMTTYPE=text/html:Help the American Cancer Society finish the fight against cancer by joining us for a unique\, upscaleevent\, complete with a farm-to-fork gourmet dinner\, entertainment\, auctions\, and other special activities.
LOCATION:The Home of Jim and Anita Duarte 1800 Baldwin Road Hughson\, CA 95326
UID:e.2695.1114
SEQUENCE:3
DTSTAMP:20260419T231644Z
URL:https://business.modchamber.org/events/details/soiree-of-central-valley-09-26-2015-1114
END:VEVENT

END:VCALENDAR
