BEGIN:VCALENDAR
VERSION:2.0
PRODID:-//ChamberMaster//Event Calendar 2.0//EN
METHOD:PUBLISH
X-PUBLISHED-TTL:P3D
REFRESH-INTERVAL:P3D
CALSCALE:GREGORIAN
BEGIN:VEVENT
DTSTART:20160520T190000Z
DTEND:20160520T070000Z
X-MICROSOFT-CDO-ALLDAYEVENT:FALSE
SUMMARY:Society for disABILITIES - Special Needs Prom
DESCRIPTION:“The Best Day Ever!” Is the phrase heard most often after the Society for disABILITIES Special Needs Prom. For 300 teens and young adults with disabilities\, the Special Needs Prom provides a magical evening to enjoy. For many\, attending their prom\, or formal dance is not an option for many reasons. The lack of adaptive equipment and proper nursing care may keep many from attending. Some have a fear of feeling left out or alone. Others do not have the disposable income and some are just never asked.\n\nThis valuable program has many benefits including: increase in self-esteem & self-confidence\, inclusion\, positive change in family dynamics\, improved quality of life\, and feeling of Independence. It would be very awesome if you helped me out this year again.\nContact : 	Society for Disabilities - Carolyn Gomes\nPhone : 	209-524-3536\nEmail : 	carolyn@societyfordisabilities.org\nWeb Site :
X-ALT-DESC;FMTTYPE=text/html:	“The Best Day Ever!” Is the phrase heard most often after the Society for disABILITIES Special Needs Prom. For 300 teens and young adults with disabilities\, the Special Needs Prom provides a magical evening to enjoy. For many\, attending their prom\, or formal dance is not an option for many reasons. The lack of adaptive equipment and proper nursing care may keep many from attending. Some have a fear of feeling left out or alone. Others do not have the disposable income and some are just never asked.\n\nThis valuable program has many benefits including: increase in self-esteem & self-confidence\, inclusion\, positive change in family dynamics\, improved quality of life\, and feeling of Independence. It would be very awesome if you helped me out this year again.\nContact : 	Society for Disabilities - Carolyn Gomes\nPhone : 	209-524-3536\nEmail : 	carolyn@societyfordisabilities.org\nWeb Site :
LOCATION:Society for Disabilities 1129 8th Street\, Ste 101 Modesto\, CA 95354
UID:e.2695.1644
SEQUENCE:3
DTSTAMP:20260419T124901Z
URL:https://business.modchamber.org/events/details/society-for-disabilities-special-needs-prom-05-20-2016-1644
END:VEVENT

END:VCALENDAR
