BEGIN:VCALENDAR
VERSION:2.0
PRODID:-//ChamberMaster//Event Calendar 2.0//EN
METHOD:PUBLISH
X-PUBLISHED-TTL:P3D
REFRESH-INTERVAL:P3D
CALSCALE:GREGORIAN
BEGIN:VEVENT
DTSTART:20150607T030000Z
DTEND:20150606T070000Z
X-MICROSOFT-CDO-ALLDAYEVENT:FALSE
SUMMARY:So Good for the Soul
DESCRIPTION:A Tribute to the Music of Motown®\n\nWhat an era! What a show! Performed by a cast of eight Broadway-savvy entertainers and their band\, “Forever Motown” is a bonanza of memories. Sing\, dance and celebrate the music of your life to songs like “My Girl\," “I Heard It Through The Grapevine\," “Reach Out\," “Shop Around\," “Dancin’ In The Street\," “Stop\, In The Name Of Love\," “Ain’t Nothin’ Like The Real Thing\," “Ain’t No Mountain High Enough\," “How Sweet It Is (To Be Loved By You)” and “Uptight” – nearly 30 non-stop hits in all! The cumulative accomplishments of the charismatic cast includes more than 30 million in record sales and more than 40 years of Broadway experience.\nContact :	Gallo Center\nPhone :	209-338-2100\nEmail :	\nWeb Site :	galloarts.org
X-ALT-DESC;FMTTYPE=text/html:	A Tribute to the Music of Motown®\n\nWhat an era! What a show! Performed by a cast of eight Broadway-savvy entertainers and their band\, “Forever Motown” is a bonanza of memories. Sing\, dance and celebrate the music of your life to songs like “My Girl\," “I Heard It Through The Grapevine\," “Reach Out\," “Shop Around\," “Dancin’ In The Street\," “Stop\, In The Name Of Love\," “Ain’t Nothin’ Like The Real Thing\," “Ain’t No Mountain High Enough\," “How Sweet It Is (To Be Loved By You)” and “Uptight” – nearly 30 non-stop hits in all! The cumulative accomplishments of the charismatic cast includes more than 30 million in record sales and more than 40 years of Broadway experience.\nContact :	Gallo Center\nPhone :	209-338-2100\nEmail :	\nWeb Site :	galloarts.org
LOCATION:Gallo Art Center 1000 I St Modesto\, CA 95354
UID:e.2695.982
SEQUENCE:3
DTSTAMP:20260420T032038Z
URL:https://business.modchamber.org/events/details/so-good-for-the-soul-06-06-2015-982
END:VEVENT

END:VCALENDAR
