BEGIN:VCALENDAR
VERSION:2.0
PRODID:-//ChamberMaster//Event Calendar 2.0//EN
METHOD:PUBLISH
X-PUBLISHED-TTL:P3D
REFRESH-INTERVAL:P3D
CALSCALE:GREGORIAN
BEGIN:VEVENT
DTSTART:20160326T023000Z
DTEND:20160325T070000Z
X-MICROSOFT-CDO-ALLDAYEVENT:FALSE
SUMMARY:Snow Apple Band
DESCRIPTION:Dig beneath the surface of this earthy folk/chanson trio\, and youâ€™ll find a tangle of rich and varied life experiences. They are a group that ambitiously draws upon markedly different musical genres to create a uniquely eclectic yet wholly natural sound. Their music is beautiful and beguiling in equal measure\, full of catchy pop-folk numbers punctuated by excursions into the darker and more romantic side of the human condition.\n\n$15 general admission / kids 12 and under free\nContact : 	Modesto Unplugged\nPhone : 	209-543-5306\nEmail : 	\nWeb Site : 	www.modestounplugged.com
X-ALT-DESC;FMTTYPE=text/html:Dig beneath the surface of this earthy folk/chanson trio\, and youâ€™ll find a tangle of rich and varied life experiences. They are a group that ambitiously draws upon markedly different musical genres to create a uniquely eclectic yet wholly natural sound. Their music is beautiful and beguiling in equal measure\, full of catchy pop-folk numbers punctuated by excursions into the darker and more romantic side of the human condition.\n\n$15 general admission / kids 12 and under free\nContact : 	Modesto Unplugged\nPhone : 	209-543-5306\nEmail : 	\nWeb Site : 	www.modestounplugged.com
LOCATION:Gottschalk Music Center 1502 E Street Modesto\, CA 95354
UID:e.2695.1572
SEQUENCE:3
DTSTAMP:20260419T163938Z
URL:https://business.modchamber.org/events/details/snow-apple-band-03-25-2016-1572
END:VEVENT

END:VCALENDAR
