BEGIN:VCALENDAR
VERSION:2.0
PRODID:-//ChamberMaster//Event Calendar 2.0//EN
METHOD:PUBLISH
X-PUBLISHED-TTL:P3D
REFRESH-INTERVAL:P3D
CALSCALE:GREGORIAN
BEGIN:VEVENT
DTSTART:20160205T040000Z
DTEND:20160204T080000Z
X-MICROSOFT-CDO-ALLDAYEVENT:FALSE
SUMMARY:Snoop Dogg in Concert
DESCRIPTION:21 & over\n\nTickets: $65.00\nContact :	Fat Cat Music House & Lounge\nPhone :	\nEmail :	\nWeb Site :	http://ticketf.ly/1ZkTOP0
X-ALT-DESC;FMTTYPE=text/html:21 & over\n\nTickets: $65.00\nContact :	Fat Cat Music House & Lounge\nPhone :	\nEmail :	\nWeb Site :	http://ticketf.ly/1ZkTOP0\n
LOCATION:Fat Cat Music House & Lounge 930 11th Street Modesto\, CA 95354
UID:e.2695.1446
SEQUENCE:3
DTSTAMP:20260419T164727Z
URL:https://business.modchamber.org/events/details/snoop-dogg-in-concert-02-04-2016-1446
END:VEVENT

END:VCALENDAR
