BEGIN:VCALENDAR
VERSION:2.0
PRODID:-//ChamberMaster//Event Calendar 2.0//EN
METHOD:PUBLISH
X-PUBLISHED-TTL:P3D
REFRESH-INTERVAL:P3D
CALSCALE:GREGORIAN
BEGIN:VEVENT
DTSTART:20160528T020000Z
DTEND:20160527T070000Z
X-MICROSOFT-CDO-ALLDAYEVENT:FALSE
SUMMARY:SkewFest
DESCRIPTION:Brad Morad\, Pure209\, & Mobile Mixologist Present SkewFest\n\nFeaturing:\nJJ Flores\nNick Rockwell\nScottie Elliott\nDJ 9T9\nDade\n\nVIP Lounge outside and inside with patio\, tables\, and bottle service: $200 + 20% gratuity for any brand of vodka! $165 on 2nd bottle! Bottles of Hennessey available!!\n\n-Drinks served by David Eclevia's Mobile Mixologist Team!\n-Photography by Tim Taffolla photography.\n\n21+ No Hats\nContact : 	Skewers Kabob House\nPhone : 	(209) 525-3611\nEmail : 	\nWeb Site :
X-ALT-DESC;FMTTYPE=text/html:Brad Morad\, Pure209\, & Mobile Mixologist Present SkewFest\n\nFeaturing:\nJJ Flores\nNick Rockwell\nScottie Elliott\nDJ 9T9\nDade\n\nVIP Lounge outside and inside with patio\, tables\, and bottle service: $200 + 20% gratuity for any brand of vodka! $165 on 2nd bottle! Bottles of Hennessey available!!\n\n-Drinks served by David Eclevia's Mobile Mixologist Team!\n-Photography by Tim Taffolla photography.\n\n21+ No Hats\nContact : 	Skewers Kabob House\nPhone : 	(209) 525-3611\nEmail : 	\nWeb Site :
LOCATION:Skewers Kabob House 906 J Street Modesto\, CA
UID:e.2695.1707
SEQUENCE:3
DTSTAMP:20260419T124728Z
URL:https://business.modchamber.org/events/details/skewfest-05-27-2016-1707
END:VEVENT

END:VCALENDAR
