BEGIN:VCALENDAR
VERSION:2.0
PRODID:-//ChamberMaster//Event Calendar 2.0//EN
METHOD:PUBLISH
X-PUBLISHED-TTL:P3D
REFRESH-INTERVAL:P3D
CALSCALE:GREGORIAN
BEGIN:VEVENT
DTSTART:20150327T023000Z
DTEND:20150326T070000Z
X-MICROSOFT-CDO-ALLDAYEVENT:FALSE
SUMMARY:Sister Act
DESCRIPTION:Sister Act is Broadway's feel-amazing musical comedy smash! The New York Post calls it “ridiculously fun” and audiences are jumping to their feet in total agreement! Featuring original music by 8-time Oscar winner Alan Menken (Beauty and the Beast\, The Little Mermaid\, Little Shop of Horrors)\, Sister Act tells the story of Deloris Van Cartier\, a wannabe diva whose life takes a surprising turn when she witnesses a crime and the cops hide her in the last place anyone would think to look—a convent! Under the suspicious watch of Mother Superior\, Deloris helps her fellow sisters find their voices as she unexpectedly rediscovers her own. A sparkling tribute to the universal power of friendship\, Sister Act is reason to REJOICE!\nContact :	Gallo Center\nPhone :	209-338-2100\nEmail :	\nWeb Site :	galloarts.org
X-ALT-DESC;FMTTYPE=text/html:	Sister Act is Broadway's feel-amazing musical comedy smash! The New York Post calls it “ridiculously fun” and audiences are jumping to their feet in total agreement! Featuring original music by 8-time Oscar winner Alan Menken (Beauty and the Beast\, The Little Mermaid\, Little Shop of Horrors)\, Sister Act tells the story of Deloris Van Cartier\, a wannabe diva whose life takes a surprising turn when she witnesses a crime and the cops hide her in the last place anyone would think to look—a convent! Under the suspicious watch of Mother Superior\, Deloris helps her fellow sisters find their voices as she unexpectedly rediscovers her own. A sparkling tribute to the universal power of friendship\, Sister Act is reason to REJOICE!\nContact :	Gallo Center\nPhone :	209-338-2100\nEmail :	\nWeb Site :	galloarts.org
LOCATION:Gallo Center 1000 I Street Modesto\, CA 95354
UID:e.2695.821
SEQUENCE:3
DTSTAMP:20260420T073648Z
URL:https://business.modchamber.org/events/details/sister-act-03-26-2015-821
END:VEVENT

END:VCALENDAR
