BEGIN:VCALENDAR
VERSION:2.0
PRODID:-//ChamberMaster//Event Calendar 2.0//EN
METHOD:PUBLISH
X-PUBLISHED-TTL:P3D
REFRESH-INTERVAL:P3D
CALSCALE:GREGORIAN
BEGIN:VEVENT
DTSTART:20151024T030000Z
DTEND:20151023T070000Z
X-MICROSOFT-CDO-ALLDAYEVENT:FALSE
SUMMARY:SINBAD
DESCRIPTION:Actor and comedian Sinbad arrived on the stand-up scene with a “hit ’em in the face” style of comedy that has kept audiences rolling in the aisles for more than two decades. He freely admits that he doesn’t know any jokes\, except for the ones that his dad told him “back in the day.” Sinbad’s comedy is about stories\, and boy does he tell stories! The basis of his humor comes from everyone he meets\, everything he’s seen\, and everything he’s done. He’s been ranked by Comedy Central as one of the top 100 standup comedians of all time\, and he reached that pinnacle with clean comedy\, too!\nContact :	Gallo Center\nPhone :	209-338-2100\nEmail :	\nWeb Site :	galloarts.org
X-ALT-DESC;FMTTYPE=text/html:Actor and comedian Sinbad arrived on the stand-up scene with a “hit ’em in the face” style of comedy that has kept audiences rolling in the aisles for more than two decades. He freely admits that he doesn’t know any jokes\, except for the ones that his dad told him “back in the day.” Sinbad’s comedy is about stories\, and boy does he tell stories! The basis of his humor comes from everyone he meets\, everything he’s seen\, and everything he’s done. He’s been ranked by Comedy Central as one of the top 100 standup comedians of all time\, and he reached that pinnacle with clean comedy\, too!\nContact :	Gallo Center\nPhone :	209-338-2100\nEmail :	\nWeb Site :	galloarts.org
LOCATION:Gallo Center 1000 I St Modesto\, CA 95354
UID:e.2695.1242
SEQUENCE:3
DTSTAMP:20260419T225959Z
URL:https://business.modchamber.org/events/details/sinbad-10-23-2015-1242
END:VEVENT

END:VCALENDAR
