BEGIN:VCALENDAR
VERSION:2.0
PRODID:-//ChamberMaster//Event Calendar 2.0//EN
METHOD:PUBLISH
X-PUBLISHED-TTL:P3D
REFRESH-INTERVAL:P3D
CALSCALE:GREGORIAN
BEGIN:VEVENT
DTSTART:20160220T040000Z
DTEND:20160219T080000Z
X-MICROSOFT-CDO-ALLDAYEVENT:FALSE
SUMMARY:SIMON & GARFUNKEL TRIBUTE SHOW
DESCRIPTION:LIVE IN CENTRAL PARK (REVISITED): \nSIMON & GARFUNKEL TRIBUTE SHOW\n\nCabaret star Lee Lessack (“The Songs of Johnny Mercer”) returns to the Gallo Center with a lovely tribute to the celebrated 1981 live Central Park concert that drew an audience of half a million people. Lessack will pair his graceful lyric baritone with that of singer-pianist (and occasional Liza Minnelli accompanist) Johnny Rodgers to perform what may well be the most unforgettable folk-rock music ever written: “Mrs. Robinson\,” “Homeward Bound\,” “Scarborough Fair\,” “Bridge Over Troubled Waters\,” “The Sound of Silence” and so much more!\nContact :	Gallo Center\nPhone :	209-338-2100\nEmail :	\nWeb Site :	galloarts.org
X-ALT-DESC;FMTTYPE=text/html:LIVE IN CENTRAL PARK (REVISITED): \nSIMON & GARFUNKEL TRIBUTE SHOW\n\nCabaret star Lee Lessack (“The Songs of Johnny Mercer”) returns to the Gallo Center with a lovely tribute to the celebrated 1981 live Central Park concert that drew an audience of half a million people. Lessack will pair his graceful lyric baritone with that of singer-pianist (and occasional Liza Minnelli accompanist) Johnny Rodgers to perform what may well be the most unforgettable folk-rock music ever written: “Mrs. Robinson\,” “Homeward Bound\,” “Scarborough Fair\,” “Bridge Over Troubled Waters\,” “The Sound of Silence” and so much more!\nContact :	Gallo Center\nPhone :	209-338-2100\nEmail :	\nWeb Site :	galloarts.org
LOCATION:Gallo Center 1000 I Street Modesto\, CA 95354
UID:e.2695.1534
SEQUENCE:3
DTSTAMP:20260419T174820Z
URL:https://business.modchamber.org/events/details/simon-garfunkel-tribute-show-02-19-2016-1534
END:VEVENT

END:VCALENDAR
