BEGIN:VCALENDAR
VERSION:2.0
PRODID:-//ChamberMaster//Event Calendar 2.0//EN
METHOD:PUBLISH
X-PUBLISHED-TTL:P3D
REFRESH-INTERVAL:P3D
CALSCALE:GREGORIAN
BEGIN:VEVENT
DTSTART:20151105T013000Z
DTEND:20151105T033000Z
X-MICROSOFT-CDO-ALLDAYEVENT:FALSE
SUMMARY:Showcase Your Business - Stanislaus family Justice Center
DESCRIPTION:Showcase Your Business is a new after hours event to the Modesto Chamber of Commerce. We wanted to be able to highlight the changes our members make throughout the years\; we believe this event does just that. To be able to host a Showcase Your Business you need to either have just changed ownership or management\, also if you have opened a new location or renovated your existing location. We look forward to hosting many more of these events for our members.
X-ALT-DESC;FMTTYPE=text/html:<P><SPAN style="DISPLAY: inline! important\; FLOAT: none\; WORD-SPACING: 0px\; FONT: 13px/23px Arial\, Helvetica\, Tahoma\, san-serif\; TEXT-TRANSFORM: none\; COLOR: rgb(0\,0\,0)\; TEXT-INDENT: 0px\; WHITE-SPACE: normal\; LETTER-SPACING: normal\; BACKGROUND-COLOR: rgb(255\,255\,255)\; orphans: auto\; widows: auto\; -webkit-text-stroke-width: 0px">Showcase Your Business is a new after hours event to the Modesto Chamber of Commerce. We wanted to be able to highlight the changes our members make throughout the years\; we believe this event does just that. To be able to host a Showcase Your Business you need to either have just changed ownership or management\, also if you have opened a new location or renovated your existing location. We look forward to hosting many more of these events for our members.</SPAN></P>
LOCATION:Stanislaus Family Justice Center 1625 I Street Modesto\, CA 95354
UID:e.2695.1306
SEQUENCE:3
DTSTAMP:20260419T204023Z
URL:https://business.modchamber.org/events/details/showcase-your-business-stanislaus-family-justice-center-11-04-2015-1306
END:VEVENT

END:VCALENDAR
