BEGIN:VCALENDAR
VERSION:2.0
PRODID:-//ChamberMaster//Event Calendar 2.0//EN
METHOD:PUBLISH
X-PUBLISHED-TTL:P3D
REFRESH-INTERVAL:P3D
CALSCALE:GREGORIAN
BEGIN:VEVENT
DTSTART:20141024T003000Z
DTEND:20141024T023000Z
X-MICROSOFT-CDO-ALLDAYEVENT:FALSE
SUMMARY:Showcase Your Business - Kemper Sports
DESCRIPTION:The Modesto Chamber is happy to announce a new event that allows businesses to "Showcase" a rennovation or a new business location. Held from 5:30pm to 7:00pm on the 4th Wednesday of the month. Cost is $300 and has all the same rules as a Business After Hours.
X-ALT-DESC;FMTTYPE=text/html:The Modesto Chamber is happy to announce a new event that allows businesses to "Showcase" a rennovation or a new business location. Held from 5:30pm to 7:00pm on the 4th Wednesday of the month. Cost is $300 and has all the same rules as a Business After Hours.
LOCATION:Kemper Sports - Creekside GC/Dryden Park GC 701 Lincoln Avenue Modesto\, CA 95354
UID:e.2695.571
SEQUENCE:3
DTSTAMP:20260422T165405Z
URL:https://business.modchamber.org/events/details/showcase-your-business-kemper-sports-10-23-2014-571
END:VEVENT

END:VCALENDAR
