BEGIN:VCALENDAR
VERSION:2.0
PRODID:-//ChamberMaster//Event Calendar 2.0//EN
METHOD:PUBLISH
X-PUBLISHED-TTL:P3D
REFRESH-INTERVAL:P3D
CALSCALE:GREGORIAN
BEGIN:VEVENT
DTSTART:20150924T003000Z
DTEND:20150924T020000Z
X-MICROSOFT-CDO-ALLDAYEVENT:FALSE
SUMMARY:Showcase Your Business - Arata\, Swingle\, Sodhi & Van Egmond
DESCRIPTION:Showcase Your Business is a new after hours event to the Modesto Chamber of Commerce. We wanted to be able to highlight the changes our members make throughout the years\; we believe this event does just that. To be able to host a Showcase Your Business you need to either have just changed ownership or management\, also if you have opened a new location or renovated your existing location. We look forward to hosting many more of these events for our members.
X-ALT-DESC;FMTTYPE=text/html:<P><SPAN style="DISPLAY: inline! important\; FLOAT: none\; WORD-SPACING: 0px\; FONT: 13px/23px Arial\, Helvetica\, Tahoma\, san-serif\; TEXT-TRANSFORM: none\; COLOR: rgb(0\,0\,0)\; TEXT-INDENT: 0px\; WHITE-SPACE: normal\; LETTER-SPACING: normal\; BACKGROUND-COLOR: rgb(255\,255\,255)\; orphans: auto\; widows: auto\; -webkit-text-stroke-width: 0px">Showcase Your Business is a new after hours event to the Modesto Chamber of Commerce. We wanted to be able to highlight the changes our members make throughout the years\; we believe this event does just that. To be able to host a Showcase Your Business you need to either have just changed ownership or management\, also if you have opened a new location or renovated your existing location. We look forward to hosting many more of these events for our members.</SPAN></P>
LOCATION:Arata\, Swingle\, Sodhi & Van Egmond 912 11th Street Modesto\, CA 95354
UID:e.2695.751
SEQUENCE:3
DTSTAMP:20260420T003420Z
URL:https://business.modchamber.org/events/details/showcase-your-business-arata-swingle-sodhi-van-egmond-09-23-2015-751
END:VEVENT

END:VCALENDAR
