BEGIN:VCALENDAR
VERSION:2.0
PRODID:-//ChamberMaster//Event Calendar 2.0//EN
METHOD:PUBLISH
X-PUBLISHED-TTL:P3D
REFRESH-INTERVAL:P3D
CALSCALE:GREGORIAN
BEGIN:VEVENT
DTSTART:20141001T003000Z
DTEND:20141001T023000Z
X-MICROSOFT-CDO-ALLDAYEVENT:FALSE
SUMMARY:Showcase Your Business
DESCRIPTION:The Modesto Chamber is happy to announce a new event that allows businesses to "Showcase" a rennovation or a new business location.  Held from 5:30pm to 7:00pm on the 4th Wednesday of the month.  Cost is $300 and has all the same rules as a Business After Hours.
X-ALT-DESC;FMTTYPE=text/html:The Modesto Chamber is happy to announce a new event that allows businesses to "Showcase" a rennovation or a new business location.  Held from 5:30pm to 7:00pm on the 4th Wednesday of the month.  Cost is $300 and has all the same rules as a Business After Hours.
LOCATION:Girl Scouts Heart of Central California 5172 Kiernan Ct. Suite D Salida\, CA 95368
UID:e.2695.550
SEQUENCE:3
DTSTAMP:20260422T180829Z
URL:https://business.modchamber.org/events/details/showcase-your-business-09-30-2014-550
END:VEVENT

END:VCALENDAR
