BEGIN:VCALENDAR
VERSION:2.0
PRODID:-//ChamberMaster//Event Calendar 2.0//EN
METHOD:PUBLISH
X-PUBLISHED-TTL:P3D
REFRESH-INTERVAL:P3D
CALSCALE:GREGORIAN
BEGIN:VEVENT
DTSTART:20140724T003000Z
DTEND:20140724T023000Z
X-MICROSOFT-CDO-ALLDAYEVENT:FALSE
SUMMARY:Showcase Your Business
DESCRIPTION:MedAmerica Billing Services\, Inc. (MBSI) of Modesto has been in the physician revenue cycle business since 1975. Over the years\, MBSI has expanded to a six-building campus in Modesto along with additional operations in Ontario California\, Green Valley AZ and Scottsdale\, AZ. Today MBSI bills for 115 contracts in Emergency Medicine\, Hospitalist services\, and Urgent Care locations in nine states\, with billing volumes of over 4.5 million patients per year. Steady growth over the years has resulted in employing over 900 people company wide.
X-ALT-DESC;FMTTYPE=text/html:MedAmerica Billing Services\, Inc. (MBSI) of Modesto has been in the physician revenue cycle business since 1975. Over the years\, MBSI has expanded to a six-building campus in Modesto along with additional operations in Ontario California\, Green Valley AZ and Scottsdale\, AZ. Today MBSI bills for 115 contracts in Emergency Medicine\, Hospitalist services\, and Urgent Care locations in nine states\, with billing volumes of over 4.5 million patients per year. Steady growth over the years has resulted in employing over 900 people company wide.
LOCATION:MedAmerica Billing Services\, Inc. 1581 Cummins Drive\, Suite B Modesto\, CA 95358
UID:e.2695.513
SEQUENCE:3
DTSTAMP:20260422T223935Z
URL:https://business.modchamber.org/events/details/showcase-your-business-07-23-2014-513
END:VEVENT

END:VCALENDAR
