BEGIN:VCALENDAR
VERSION:2.0
PRODID:-//ChamberMaster//Event Calendar 2.0//EN
METHOD:PUBLISH
X-PUBLISHED-TTL:P3D
REFRESH-INTERVAL:P3D
CALSCALE:GREGORIAN
BEGIN:VEVENT
DTSTART:20140627T003000Z
DTEND:20140627T023000Z
X-MICROSOFT-CDO-ALLDAYEVENT:FALSE
SUMMARY:Showcase Your Business
DESCRIPTION:Bank of Stockton/Modesto Commerce Bank is hosting this event to announce their new Branch Manager Kristin Reza.  Join them for a fun networking event and raffle prizes.
X-ALT-DESC;FMTTYPE=text/html:Bank of Stockton/Modesto Commerce Bank is hosting this event to announce their new Branch Manager Kristin Reza.  Join them for a fun networking event and raffle prizes.
LOCATION:Modesto Commerce Bank 1302 J Street Modesto\, CA 95354
UID:e.2695.486
SEQUENCE:3
DTSTAMP:20260423T000836Z
URL:https://business.modchamber.org/events/details/showcase-your-business-06-26-2014-486
END:VEVENT

END:VCALENDAR
