BEGIN:VCALENDAR
VERSION:2.0
PRODID:-//ChamberMaster//Event Calendar 2.0//EN
METHOD:PUBLISH
X-PUBLISHED-TTL:P3D
REFRESH-INTERVAL:P3D
CALSCALE:GREGORIAN
BEGIN:VEVENT
DTSTART:20140424T003000Z
DTEND:20140424T023000Z
X-MICROSOFT-CDO-ALLDAYEVENT:FALSE
SUMMARY:Showcase Your Business
DESCRIPTION:The Modesto Chamber is happy to announce a new event that allows businesses to "Showcase" a rennovation or a new business location.  Held from 5:30pm to 7:00pm on the 4th Wednesday of the month.  Cost is $300 and has all the same rules as a Business After Hours.
X-ALT-DESC;FMTTYPE=text/html:The Modesto Chamber is happy to announce a new event that allows businesses to "Showcase" a rennovation or a new business location.  Held from 5:30pm to 7:00pm on the 4th Wednesday of the month.  Cost is $300 and has all the same rules as a Business After Hours.
LOCATION:TSM Insurance & Financial Services 2605 Coffee Road\, #100 Modesto\, CA 95355
UID:e.2695.415
SEQUENCE:3
DTSTAMP:20260423T032233Z
URL:https://business.modchamber.org/events/details/showcase-your-business-04-23-2014-415
END:VEVENT

END:VCALENDAR
