BEGIN:VCALENDAR
VERSION:2.0
PRODID:-//ChamberMaster//Event Calendar 2.0//EN
METHOD:PUBLISH
X-PUBLISHED-TTL:P3D
REFRESH-INTERVAL:P3D
CALSCALE:GREGORIAN
BEGIN:VEVENT
DTSTART:20150502T160000Z
DTEND:20150502T070000Z
X-MICROSOFT-CDO-ALLDAYEVENT:FALSE
SUMMARY:Show & Shine at Parkview
DESCRIPTION:Car Entry $20 in advance / $25 day of event\n\nFundraiser Breakfast 7:00pm - 10:00am\n\nAwards for entrants. Prize opportunities all day. Food available on site. Music & fun!\n\nAll proceeds benefit low income seniors in the community.\nContact :	Parkview Christian Estates\nPhone :	(209) 521-0860\nEmail :	\nWeb Site :	www.parkviewchristianestates.com
X-ALT-DESC;FMTTYPE=text/html:	Car Entry $20 in advance / $25 day of event\n\nFundraiser Breakfast 7:00pm - 10:00am\n\nAwards for entrants. Prize opportunities all day. Food available on site. Music & fun!\n\nAll proceeds benefit low income seniors in the community.\nContact :	Parkview Christian Estates\nPhone :	(209) 521-0860\nEmail :	\nWeb Site :	www.parkviewchristianestates.com
LOCATION:Parkview Christian Estates 901 W. Rumble Rd Modesto\, CA 95350
UID:e.2695.915
SEQUENCE:3
DTSTAMP:20260420T045526Z
URL:https://business.modchamber.org/events/details/show-shine-at-parkview-05-02-2015-915
END:VEVENT

END:VCALENDAR
