BEGIN:VCALENDAR
VERSION:2.0
PRODID:-//ChamberMaster//Event Calendar 2.0//EN
METHOD:PUBLISH
X-PUBLISHED-TTL:P3D
REFRESH-INTERVAL:P3D
CALSCALE:GREGORIAN
BEGIN:VEVENT
DTSTART:20160309T043000Z
DTEND:20160308T080000Z
X-MICROSOFT-CDO-ALLDAYEVENT:FALSE
SUMMARY:Shinedown Concert
DESCRIPTION:Tickets available locally at select Cruisers locations (Salida\, McHenry\, Briggsmore\, Dale Rd\, Riverbank)\, Outlaw Car Audio (McHenry)\, and all Dimple Record Stores.\n\nShinedown have built their name on rock songs both brutal in power and epic in scope. Now\, with their latest album\, Shinedown (Brent Smith\, Barry Kerch\, Eric Bass\, and Zach Myers) veer away from that densely layered sonic palette and take a more direct approach. Featuring lead single “Cut the Cord” — a blistering track that shot to #1 on Active Rock radio — Threat to Survival finds the multi-platinum-selling band achieving their most powerful sound ever and offering up their most important album to date.\n\nAs Smith explains\, Shinedown’s approach on Threat to Survival had much to do with the emotionally raw material at the heart of the album. “When we started the writing process we realized the changes that had taken place over the past 2 years\, our experiences\, the relationships that had come and gone\, the album really took on a life of its own\,” says Smith. “It’s like the songs were saying to us\, ‘The songs were so honest\, it felt necessary to present them in the most straightforward way possible.\nContact :	Centre Plaza\nPhone :	209-577-6444\nEmail :	\nWeb Site :
X-ALT-DESC;FMTTYPE=text/html:Tickets available locally at select Cruisers locations (Salida\, McHenry\, Briggsmore\, Dale Rd\, Riverbank)\, Outlaw Car Audio (McHenry)\, and all Dimple Record Stores.\n\nShinedown have built their name on rock songs both brutal in power and epic in scope. Now\, with their latest album\, Shinedown (Brent Smith\, Barry Kerch\, Eric Bass\, and Zach Myers) veer away from that densely layered sonic palette and take a more direct approach. Featuring lead single “Cut the Cord” — a blistering track that shot to #1 on Active Rock radio — Threat to Survival finds the multi-platinum-selling band achieving their most powerful sound ever and offering up their most important album to date.\n\nAs Smith explains\, Shinedown’s approach on Threat to Survival had much to do with the emotionally raw material at the heart of the album. “When we started the writing process we realized the changes that had taken place over the past 2 years\, our experiences\, the relationships that had come and gone\, the album really took on a life of its own\,” says Smith. “It’s like the songs were saying to us\, ‘The songs were so honest\, it felt necessary to present them in the most straightforward way possible.\nContact :	Centre Plaza\nPhone :	209-577-6444\nEmail :	\nWeb Site :	
LOCATION:Modesto Centre Plaza 1000 L Street Modesto\, CA 95354
UID:e.2695.1456
SEQUENCE:3
DTSTAMP:20260419T154410Z
URL:https://business.modchamber.org/events/details/shinedown-concert-03-08-2016-1456
END:VEVENT

END:VCALENDAR
