BEGIN:VCALENDAR
VERSION:2.0
PRODID:-//ChamberMaster//Event Calendar 2.0//EN
METHOD:PUBLISH
X-PUBLISHED-TTL:P3D
REFRESH-INTERVAL:P3D
CALSCALE:GREGORIAN
BEGIN:VEVENT
DTSTART:20160506T190000Z
DTEND:20160506T070000Z
X-MICROSOFT-CDO-ALLDAYEVENT:FALSE
SUMMARY:Shakespeare at The State ~ for FREE!
DESCRIPTION:The English poet\, playwright and actor has been gone for four centuries\, but his plays live on\, and we’re commemorating those works with four FREE Fridays of top-notch BBC productions. From the Elizabethan stage to stage at The State\, we bring you a month-long series that includes an introduction to The Bard and three British Broadcasting Corporation plays ~ and all at no charge.\n\nShakespeare and Us ~ A fascinating and fun exploration of Shakespeare and his role in shaping British culture and character by the noted historian Simo Schama\nFri. April 22 at noon\nTaming of The Shrew ~ A modern update starring the criminally underappreciated Shirley Henderson\nFri. April 29 at noon\nA Midsummer Night’s Dream (1971)~ A truly all-star production for theater buffs featuring Lynn Redgrave\, Michael Gambon\, Eileen Atkins\, Edward Fox\, Eleanor Bron\, Robert Stephens and Ronnie Barker\nFri. May 6 at noon\nAs You Like It (1963\; 2 Hrs. 15 Min.) ~ A charming black-and-white adaptation of the Royal Shakespeare Company production starring Vanessa Redgrave Ian Richardson\nFri. May 13 at noon\nContact : 	State Theatre\nPhone : 	BOX OFFICE (209) 527-4697\nEmail : 	\nWeb Site : 	thestate.org
X-ALT-DESC;FMTTYPE=text/html:The English poet\, playwright and actor has been gone for four centuries\, but his plays live on\, and we’re commemorating those works with four FREE Fridays of top-notch BBC productions. From the Elizabethan stage to stage at The State\, we bring you a month-long series that includes an introduction to The Bard and three British Broadcasting Corporation plays ~ and all at no charge.\n\nShakespeare and Us ~ A fascinating and fun exploration of Shakespeare and his role in shaping British culture and character by the noted historian Simo Schama\nFri. April 22 at noon\nTaming of The Shrew ~ A modern update starring the criminally underappreciated Shirley Henderson\nFri. April 29 at noon\nA Midsummer Night’s Dream (1971)~ A truly all-star production for theater buffs featuring Lynn Redgrave\, Michael Gambon\, Eileen Atkins\, Edward Fox\, Eleanor Bron\, Robert Stephens and Ronnie Barker\nFri. May 6 at noon\nAs You Like It (1963\; 2 Hrs. 15 Min.) ~ A charming black-and-white adaptation of the Royal Shakespeare Company production starring Vanessa Redgrave Ian Richardson\nFri. May 13 at noon\nContact : 	State Theatre\nPhone : 	BOX OFFICE (209) 527-4697\nEmail : 	\nWeb Site : 	thestate.org
LOCATION:State Theatre 1307 J Street Modesto\, CA 95354
UID:e.2695.1690
SEQUENCE:3
DTSTAMP:20260419T141054Z
URL:https://business.modchamber.org/events/details/shakespeare-at-the-state-for-free-05-06-2016-1690
END:VEVENT

END:VCALENDAR
