BEGIN:VCALENDAR
VERSION:2.0
PRODID:-//ChamberMaster//Event Calendar 2.0//EN
METHOD:PUBLISH
X-PUBLISHED-TTL:P3D
REFRESH-INTERVAL:P3D
CALSCALE:GREGORIAN
BEGIN:VEVENT
DTSTART:20140724T170000Z
DTEND:20140724T180000Z
X-MICROSOFT-CDO-ALLDAYEVENT:FALSE
SUMMARY:SGT Ribbon Cutting - Frito-Lay Co.\, Inc.
DESCRIPTION:A Stanislaus Green Team Green Ribbon cutting is a ceremony that celebrates and markets a business being certified as a Green Sustainable Business. The recipient goes through a 7 page checklist and documents proof of green practices that have been put in place. These practices help the environment and reduce the cost of doing business. It also is a great way to market and brand a business or organization as an active participant in green standards. U.S.\, State and City officials join in the celebration to award each business for their efforts. The Modesto Chamber program is committed to educating their members about all of the benefits of "Greening their Business". Congratulations to all of the members who complete the Stanislaus Green Team program.
X-ALT-DESC;FMTTYPE=text/html:A Stanislaus Green Team Green Ribbon cutting is a ceremony that celebrates and markets a business being certified as a Green Sustainable Business. The recipient goes through a 7 page checklist and documents proof of green practices that have been put in place. These practices help the environment and reduce the cost of doing business. It also is a great way to market and brand a business or organization as an active participant in green standards. U.S.\, State and City officials join in the celebration to award each business for their efforts. The Modesto Chamber program is committed to educating their members about all of the benefits of "Greening their Business". Congratulations to all of the members who complete the Stanislaus Green Team program.
LOCATION:Frito-Lay Co.\, Inc. 600 Garner Road Modesto\, CA 953570514
UID:e.2695.523
SEQUENCE:3
DTSTAMP:20260422T224809Z
URL:https://business.modchamber.org/events/details/sgt-ribbon-cutting-frito-lay-co-inc-07-24-2014-523
END:VEVENT

END:VCALENDAR
