BEGIN:VCALENDAR
VERSION:2.0
PRODID:-//ChamberMaster//Event Calendar 2.0//EN
METHOD:PUBLISH
X-PUBLISHED-TTL:P3D
REFRESH-INTERVAL:P3D
CALSCALE:GREGORIAN
BEGIN:VEVENT
DTSTART:20150408T230000Z
DTEND:20150408T070000Z
X-MICROSOFT-CDO-ALLDAYEVENT:FALSE
SUMMARY:Sensory Friendly Film: Toy Story
DESCRIPTION:Sensory Friendly Film:\nToy Story\n\n(G) 1 Hr. 20 Min.\nPixar’s beloved cowboy doll is profoundly threatened and jealous when it looks like a new spaceman figure may replace hi as top toy in a boy’s room.\nDoors at 3 p.m.\; Film at 4 p.m.\; Parent Social from 5:30 to 6 p.m.\nAdmission: FREE\nContact : 	State Theatre\nPhone : 	BOX OFFICE (209) 527-4697\nEmail : 	\nWeb Site : 	thestate.org
X-ALT-DESC;FMTTYPE=text/html:	Sensory Friendly Film:\nToy Story\n\n(G) 1 Hr. 20 Min.\nPixar’s beloved cowboy doll is profoundly threatened and jealous when it looks like a new spaceman figure may replace hi as top toy in a boy’s room.\nDoors at 3 p.m.\; Film at 4 p.m.\; Parent Social from 5:30 to 6 p.m.\nAdmission: FREE\nContact : 	State Theatre\nPhone : 	BOX OFFICE (209) 527-4697\nEmail : 	\nWeb Site : 	thestate.org
LOCATION:State Theatre 1307 J St Modesto\, CA 95354
UID:e.2695.849
SEQUENCE:3
DTSTAMP:20260420T063232Z
URL:https://business.modchamber.org/events/details/sensory-friendly-film-toy-story-04-08-2015-849
END:VEVENT

END:VCALENDAR
