BEGIN:VCALENDAR
VERSION:2.0
PRODID:-//ChamberMaster//Event Calendar 2.0//EN
METHOD:PUBLISH
X-PUBLISHED-TTL:P3D
REFRESH-INTERVAL:P3D
CALSCALE:GREGORIAN
BEGIN:VEVENT
DTSTART:20150715T230000Z
DTEND:20150715T070000Z
X-MICROSOFT-CDO-ALLDAYEVENT:FALSE
SUMMARY:Sensory Friendly Film: Despicable Me
DESCRIPTION:(PG) 1 Hr. 35 Min.\nIn this 2010 animated comedy\, a criminal mastermind uses a trio of orphan girls as pawns for a grand scheme\, only to find that their love is profoundly changing him for the better.\nDoors at 3 p.m.\; Film at 4 p.m.\; Parent Social from 5:30 to 6 p.m. \nAdmission: FREE\nContact :	State Theatre\nPhone :	BOX OFFICE (209) 527-4697\nEmail :	\nWeb Site :	thestate.org
X-ALT-DESC;FMTTYPE=text/html:(PG) 1 Hr. 35 Min.\nIn this 2010 animated comedy\, a criminal mastermind uses a trio of orphan girls as pawns for a grand scheme\, only to find that their love is profoundly changing him for the better.\nDoors at 3 p.m.\; Film at 4 p.m.\; Parent Social from 5:30 to 6 p.m. \nAdmission: FREE\nContact :	State Theatre\nPhone :	BOX OFFICE (209) 527-4697\nEmail :	\nWeb Site :	thestate.org
LOCATION:State Theatre 1307 J St Modesto\, CA 95354
UID:e.2695.1027
SEQUENCE:3
DTSTAMP:20260420T020106Z
URL:https://business.modchamber.org/events/details/sensory-friendly-film-despicable-me-07-15-2015-1027
END:VEVENT

END:VCALENDAR
