BEGIN:VCALENDAR
VERSION:2.0
PRODID:-//ChamberMaster//Event Calendar 2.0//EN
METHOD:PUBLISH
X-PUBLISHED-TTL:P3D
REFRESH-INTERVAL:P3D
CALSCALE:GREGORIAN
BEGIN:VEVENT
DTSTART:20150503T200000Z
DTEND:20150503T070000Z
X-MICROSOFT-CDO-ALLDAYEVENT:FALSE
SUMMARY:Senior Spotlight Annual Talent Show
DESCRIPTION:This annual showcase of local talent brings the area's best adult performers before a full house of family\, friends and neighbors. Hosted by The State Theatre and produced by Ms. Grace Lieberman\, one of Modesto's most ardent advocates for the arts\, Senior Spotlight always makes for a memorable afternoon of entertaining\, socializing\, dancing and vocalizing. This year’s theme is Seniors Sing Broadway\, in recognition of the beloved songs from some of our favorite musicals ~ songs that never go out of style and will never fade from the repertoires of vocalists and musicians.\nDoors at noon\; show at 1 p.m. \nGeneral admission tickets are $10\nContact :	State Theatre\nPhone :	BOX OFFICE (209) 527-4697\nEmail :	\nWeb Site :	thestate.org
X-ALT-DESC;FMTTYPE=text/html:	This annual showcase of local talent brings the area's best adult performers before a full house of family\, friends and neighbors. Hosted by The State Theatre and produced by Ms. Grace Lieberman\, one of Modesto's most ardent advocates for the arts\, Senior Spotlight always makes for a memorable afternoon of entertaining\, socializing\, dancing and vocalizing. This year’s theme is Seniors Sing Broadway\, in recognition of the beloved songs from some of our favorite musicals ~ songs that never go out of style and will never fade from the repertoires of vocalists and musicians.\nDoors at noon\; show at 1 p.m. \nGeneral admission tickets are $10\nContact :	State Theatre\nPhone :	BOX OFFICE (209) 527-4697\nEmail :	\nWeb Site :	thestate.org
LOCATION:State Theatre 1307 J St Modesto\, CA 95354
UID:e.2695.916
SEQUENCE:3
DTSTAMP:20260420T045639Z
URL:https://business.modchamber.org/events/details/senior-spotlight-annual-talent-show-05-03-2015-916
END:VEVENT

END:VCALENDAR
