BEGIN:VCALENDAR
VERSION:2.0
PRODID:-//ChamberMaster//Event Calendar 2.0//EN
METHOD:PUBLISH
X-PUBLISHED-TTL:P3D
REFRESH-INTERVAL:P3D
CALSCALE:GREGORIAN
BEGIN:VEVENT
DTSTART:20150929T010000Z
DTEND:20150928T070000Z
X-MICROSOFT-CDO-ALLDAYEVENT:FALSE
SUMMARY:Senior Scam Prevention Presentation
DESCRIPTION:Scams are a disease of epidemic proportions\, speading nationwide\, and often affects one of our vulnerable populations- seniors.\nPresented by DELWOOD NEIGHBORHOOD ALLIANCE and \nSponsored by CAREMORE HEALTH PLAN \n\nSpeakers: Reva Damir\, Presenter*\nRosie Garcia & Stephany Valadez\, \nModesto Police Department Crime Division
X-ALT-DESC;FMTTYPE=text/html:Scams are a disease of epidemic proportions\, speading nationwide\, and often affects one of our vulnerable populations- seniors.\nPresented by DELWOOD NEIGHBORHOOD ALLIANCE and \nSponsored by CAREMORE HEALTH PLAN \n\nSpeakers: Reva Damir\, Presenter*\nRosie Garcia & Stephany Valadez\, \nModesto Police Department Crime Division
LOCATION:Trinity United Presbyterian Church Telle Center 1600 Carver Rd Modesto\, CA
UID:e.2695.1202
SEQUENCE:3
DTSTAMP:20260419T231549Z
URL:https://business.modchamber.org/events/details/senior-scam-prevention-presentation-09-28-2015-1202
END:VEVENT

END:VCALENDAR
