BEGIN:VCALENDAR
VERSION:2.0
PRODID:-//ChamberMaster//Event Calendar 2.0//EN
METHOD:PUBLISH
X-PUBLISHED-TTL:P3D
REFRESH-INTERVAL:P3D
CALSCALE:GREGORIAN
BEGIN:VEVENT
DTSTART:20151107T220000Z
DTEND:20151107T080000Z
X-MICROSOFT-CDO-ALLDAYEVENT:FALSE
SUMMARY:SEASON OPENING CONCERT
DESCRIPTION:MODESTO SYMPHONY YOUTH ORCHESTRA\n\nMSYO SEASON OPENING CONCERT\n\nRyan Murray\, conductor\nSymphony Orchestra\n\nDonald C. Grishaw\, conductor\nConcert Orchestra\n\nProgram\n\nThe Modesto Symphony Youth Orchestra is entering its 39th successful season serving nearly 120 student musicians and their families from over forty public and private schools in the Central Valley. Join them in the concert hall for an exciting start to their 2015/16 Season!\nContact :	Gallo Center\nPhone :	209-338-2100\nEmail :	\nWeb Site :	galloarts.org
X-ALT-DESC;FMTTYPE=text/html:MODESTO SYMPHONY YOUTH ORCHESTRA\n\nMSYO SEASON OPENING CONCERT\n\nRyan Murray\, conductor\nSymphony Orchestra\n\nDonald C. Grishaw\, conductor\nConcert Orchestra\n\nProgram\n\nThe Modesto Symphony Youth Orchestra is entering its 39th successful season serving nearly 120 student musicians and their families from over forty public and private schools in the Central Valley. Join them in the concert hall for an exciting start to their 2015/16 Season!\nContact :	Gallo Center\nPhone :	209-338-2100\nEmail :	\nWeb Site :	galloarts.org
LOCATION:Gallo Center 1000 I St Modesto\, CA 95354
UID:e.2695.1254
SEQUENCE:3
DTSTAMP:20260419T203802Z
URL:https://business.modchamber.org/events/details/season-opening-concert-11-07-2015-1254
END:VEVENT

END:VCALENDAR
