BEGIN:VCALENDAR
VERSION:2.0
PRODID:-//ChamberMaster//Event Calendar 2.0//EN
METHOD:PUBLISH
X-PUBLISHED-TTL:P3D
REFRESH-INTERVAL:P3D
CALSCALE:GREGORIAN
BEGIN:VEVENT
DTSTART:20160226T033000Z
DTEND:20160225T080000Z
X-MICROSOFT-CDO-ALLDAYEVENT:FALSE
SUMMARY:Scots Guard
DESCRIPTION:The Band of the Royal Marines and the Scots Guards\n\nThe Band of the Royal Marines and The Pipes\, Drums\, and Highland Dancers of the Scots Guards is without doubt one of the most riveting spectacles you can see on stage. A sweeping blend of British military musical pageantry\, pomp and precision\, the performance is quite literally hundreds of years of history that features bagpipes\, traditional military marches\, drum solos\, Celtic dancing and beloved songs. This event promises an unforgettable evening of excitement for the entire family.\nContact :	Gallo Center\nPhone :	209-338-2100\nEmail :	\nWeb Site :	galloarts.org
X-ALT-DESC;FMTTYPE=text/html:The Band of the Royal Marines and the Scots Guards\n\nThe Band of the Royal Marines and The Pipes\, Drums\, and Highland Dancers of the Scots Guards is without doubt one of the most riveting spectacles you can see on stage. A sweeping blend of British military musical pageantry\, pomp and precision\, the performance is quite literally hundreds of years of history that features bagpipes\, traditional military marches\, drum solos\, Celtic dancing and beloved songs. This event promises an unforgettable evening of excitement for the entire family.\nContact :	Gallo Center\nPhone :	209-338-2100\nEmail :	\nWeb Site :	galloarts.org\n
LOCATION:Gallo Center 1000 I Street Modeso\, CA 95354
UID:e.2695.1399
SEQUENCE:3
DTSTAMP:20260419T164321Z
URL:https://business.modchamber.org/events/details/scots-guard-02-25-2016-1399
END:VEVENT

END:VCALENDAR
