BEGIN:VCALENDAR
VERSION:2.0
PRODID:-//ChamberMaster//Event Calendar 2.0//EN
METHOD:PUBLISH
X-PUBLISHED-TTL:P3D
REFRESH-INTERVAL:P3D
CALSCALE:GREGORIAN
BEGIN:VEVENT
DTSTART:20140918T133000Z
DTEND:20140918T144500Z
X-MICROSOFT-CDO-ALLDAYEVENT:FALSE
SUMMARY:Sample Toastmaster Club Program
DESCRIPTION:Sample Toastmasters Program \nHave breakfast and enjoy a sample Toastmasters club program.\n\nYou will not be asked to speak.
X-ALT-DESC;FMTTYPE=text/html:Sample Toastmasters Program \nHave breakfast and enjoy a sample Toastmasters club program.\n\nYou will not be asked to speak.
LOCATION:Michaels Grill 500 N. Carpenter Road Modesto\, CA
UID:e.2695.556
SEQUENCE:3
DTSTAMP:20260422T180303Z
URL:https://business.modchamber.org/events/details/sample-toastmaster-club-program-09-18-2014-556
END:VEVENT

END:VCALENDAR
